BEGIN:VCALENDAR
VERSION:2.0
PRODID:-//ZContent.net//ZapCalLib 1.0//EN
CALSCALE:GREGORIAN
METHOD:PUBLISH
BEGIN:VEVENT
UID:69e65052209c7@usbands.org
SUMMARY:V-USBands Grand Finale - Marching Ensemble/Band
DTSTART:20201114T000000
DTEND:20201114T235900
DTSTAMP:20260420T161202
LOCATION:
DESCRIPTION:V-USBands Grand Finale - Marching Ensemble/Band
END:VEVENT
END:VCALENDAR
