BEGIN:VCALENDAR
VERSION:2.0
PRODID:-//ZContent.net//ZapCalLib 1.0//EN
CALSCALE:GREGORIAN
METHOD:PUBLISH
BEGIN:VEVENT
UID:69e6505266a97@usbands.org
SUMMARY:FloMarching Kick Off - Concert or Visual Ensemble/Standstill/Pep Ba
 nd
DTSTART:20200926T000000
DTEND:20200926T235900
DTSTAMP:20260420T161202
LOCATION:
DESCRIPTION:FloMarching Kick Off - Concert or Visual Ensemble/Standstill/Pe
 p Band
END:VEVENT
END:VCALENDAR
