BEGIN:VCALENDAR
VERSION:2.0
PRODID:-//ZContent.net//ZapCalLib 1.0//EN
CALSCALE:GREGORIAN
METHOD:PUBLISH
BEGIN:VEVENT
UID:69e64fffbba73@usbands.org
SUMMARY:Yamaha Cup - Creative Class
DTSTART:20201003T000000
DTEND:20201003T235900
DTSTAMP:20260420T161039
LOCATION:
DESCRIPTION:Yamaha Cup - Creative Class
END:VEVENT
END:VCALENDAR
