BEGIN:VCALENDAR
VERSION:2.0
PRODID:-//ZContent.net//ZapCalLib 1.0//EN
CALSCALE:GREGORIAN
METHOD:PUBLISH
BEGIN:VEVENT
UID:69e65052ca1c0@usbands.org
SUMMARY:Zildjian-Vic Firth Challenge - Creative Class
DTSTART:20201017T000000
DTEND:20201017T235900
DTSTAMP:20260420T161202
LOCATION:
DESCRIPTION:Zildjian-Vic Firth Challenge - Creative Class
END:VEVENT
END:VCALENDAR
