BEGIN:VCALENDAR
VERSION:2.0
PRODID:-//ZContent.net//ZapCalLib 1.0//EN
CALSCALE:GREGORIAN
METHOD:PUBLISH
BEGIN:VEVENT
UID:69e64ffe9d3a6@usbands.org
SUMMARY:Remo Invitational -  Creative Class
DTSTART:20201024T000000
DTEND:20201024T235900
DTSTAMP:20260420T161038
LOCATION:
DESCRIPTION:Remo Invitational -  Creative Class
END:VEVENT
END:VCALENDAR
