BEGIN:VCALENDAR
VERSION:2.0
PRODID:-//ZContent.net//ZapCalLib 1.0//EN
CALSCALE:GREGORIAN
METHOD:PUBLISH
BEGIN:VEVENT
UID:69e65044af04e@usbands.org
SUMMARY:State Championships - Creative Class
DTSTART:20201031T000000
DTEND:20201031T235900
DTSTAMP:20260420T161148
LOCATION:
DESCRIPTION:State Championships - Creative Class
END:VEVENT
END:VCALENDAR
