BEGIN:VCALENDAR
VERSION:2.0
PRODID:-//ZContent.net//ZapCalLib 1.0//EN
CALSCALE:GREGORIAN
METHOD:PUBLISH
BEGIN:VEVENT
UID:69e65044c768f@usbands.org
SUMMARY:USBands Virtual Workshop
DTSTART:20201121T090000
DTEND:20201121T133000
DTSTAMP:20260420T161148
LOCATION:
DESCRIPTION:USBands Virtual Workshop
END:VEVENT
END:VCALENDAR
