BEGIN:VCALENDAR
VERSION:2.0
PRODID:-//ZContent.net//ZapCalLib 1.0//EN
CALSCALE:GREGORIAN
METHOD:PUBLISH
BEGIN:VEVENT
UID:69e63b8eb4ae7@usbands.org
SUMMARY:Solo Competition - Virtual Music Festival Series by Yamaha
DTSTART:20210313T060000
DTEND:20210313T060100
DTSTAMP:20260420T144326
LOCATION:
DESCRIPTION:Solo Competition - Virtual Music Festival Series by Yamaha
END:VEVENT
END:VCALENDAR
