BEGIN:VCALENDAR
VERSION:2.0
PRODID:-//ZContent.net//ZapCalLib 1.0//EN
CALSCALE:GREGORIAN
METHOD:PUBLISH
BEGIN:VEVENT
UID:69e638f8c2f11@usbands.org
SUMMARY:Solo Competition - VMF Series by Yamaha
DTSTART:20210410T060000
DTEND:20210410T060100
DTSTAMP:20260420T143224
LOCATION:
DESCRIPTION:Solo Competition - VMF Series by Yamaha
END:VEVENT
END:VCALENDAR
