BEGIN:VCALENDAR
VERSION:2.0
PRODID:-//ZContent.net//ZapCalLib 1.0//EN
CALSCALE:GREGORIAN
METHOD:PUBLISH
BEGIN:VEVENT
UID:69e638f8d9277@usbands.org
SUMMARY:USBands Madisonville Showcase & Clinic
DTSTART:20210925T085500
DTEND:20210925T210000
DTSTAMP:20260420T143224
LOCATION:Madisonville\, TX
DESCRIPTION:USBands Madisonville Showcase & Clinic
END:VEVENT
END:VCALENDAR
