BEGIN:VCALENDAR
VERSION:2.0
PRODID:-//ZContent.net//ZapCalLib 1.0//EN
CALSCALE:GREGORIAN
METHOD:PUBLISH
BEGIN:VEVENT
UID:69e63b2dccda2@usbands.org
SUMMARY:USBands Baytown Showcase
DTSTART:20210925T115500
DTEND:20210925T210000
DTSTAMP:20260420T144149
LOCATION:Baytown\, TX
DESCRIPTION:USBands Baytown Showcase
END:VEVENT
END:VCALENDAR
