BEGIN:VCALENDAR
VERSION:2.0
PRODID:-//ZContent.net//ZapCalLib 1.0//EN
CALSCALE:GREGORIAN
METHOD:PUBLISH
BEGIN:VEVENT
UID:69e63b8febd98@usbands.org
SUMMARY:USBands South San Antonio Showcase & Clinic
DTSTART:20210925T085500
DTEND:20210925T210000
DTSTAMP:20260420T144327
LOCATION:San Antonio\, TX
DESCRIPTION:USBands South San Antonio Showcase & Clinic
END:VEVENT
END:VCALENDAR
