BEGIN:VCALENDAR
VERSION:2.0
PRODID:-//ZContent.net//ZapCalLib 1.0//EN
CALSCALE:GREGORIAN
METHOD:PUBLISH
BEGIN:VEVENT
UID:69e63b67209b0@usbands.org
SUMMARY:USBands Saginaw Regional
DTSTART:20210925T075500
DTEND:20210925T220000
DTSTAMP:20260420T144247
LOCATION:Saginaw\, TX
DESCRIPTION:USBands Saginaw Regional
END:VEVENT
END:VCALENDAR
