BEGIN:VCALENDAR
VERSION:2.0
PRODID:-//ZContent.net//ZapCalLib 1.0//EN
CALSCALE:GREGORIAN
METHOD:PUBLISH
BEGIN:VEVENT
UID:69e638f853d9e@usbands.org
SUMMARY:Yamaha Cup
DTSTART:20211002T055500
DTEND:20211002T220000
DTSTAMP:20260420T143224
LOCATION:East Rutherford\, NJ
DESCRIPTION:Yamaha Cup
END:VEVENT
END:VCALENDAR
