BEGIN:VCALENDAR
VERSION:2.0
PRODID:-//ZContent.net//ZapCalLib 1.0//EN
CALSCALE:GREGORIAN
METHOD:PUBLISH
BEGIN:VEVENT
UID:69e63b678c1f5@usbands.org
SUMMARY:USBands Ganado Showcase & Clinic
DTSTART:20211002T105500
DTEND:20211002T090100
DTSTAMP:20260420T144247
LOCATION:Ganado\, TX
DESCRIPTION:USBands Ganado Showcase & Clinic
END:VEVENT
END:VCALENDAR
