BEGIN:VCALENDAR
VERSION:2.0
PRODID:-//ZContent.net//ZapCalLib 1.0//EN
CALSCALE:GREGORIAN
METHOD:PUBLISH
BEGIN:VEVENT
UID:69e662c1bd1ca@usbands.org
SUMMARY:USBands Dekaney Showcase
DTSTART:20211002T152300
DTEND:20211002T152400
DTSTAMP:20260420T173041
LOCATION:Spring\, TX
DESCRIPTION:USBands Dekaney Showcase
END:VEVENT
END:VCALENDAR
