BEGIN:VCALENDAR
VERSION:2.0
PRODID:-//ZContent.net//ZapCalLib 1.0//EN
CALSCALE:GREGORIAN
METHOD:PUBLISH
BEGIN:VEVENT
UID:69e63b900d61c@usbands.org
SUMMARY:Yamaha Cup Texas
DTSTART:20211009T082500
DTEND:20211009T223000
DTSTAMP:20260420T144328
LOCATION:Converse\, TX
DESCRIPTION:Yamaha Cup Texas
END:VEVENT
END:VCALENDAR
