BEGIN:VCALENDAR
VERSION:2.0
PRODID:-//ZContent.net//ZapCalLib 1.0//EN
CALSCALE:GREGORIAN
METHOD:PUBLISH
BEGIN:VEVENT
UID:69e63b2de0f3f@usbands.org
SUMMARY:USBands Burleson Showcase
DTSTART:20211009T081000
DTEND:20211009T223000
DTSTAMP:20260420T144149
LOCATION:Burleson\, TX
DESCRIPTION:USBands Burleson Showcase
END:VEVENT
END:VCALENDAR
