BEGIN:VCALENDAR
VERSION:2.0
PRODID:-//ZContent.net//ZapCalLib 1.0//EN
CALSCALE:GREGORIAN
METHOD:PUBLISH
BEGIN:VEVENT
UID:69e638c03f80f@usbands.org
SUMMARY:USBands Liberty Hill Regional
DTSTART:20211009T075500
DTEND:20211009T090100
DTSTAMP:20260420T143128
LOCATION:Liberty Hill\, TX
DESCRIPTION:USBands Liberty Hill Regional
END:VEVENT
END:VCALENDAR
