BEGIN:VCALENDAR
VERSION:2.0
PRODID:-//ZContent.net//ZapCalLib 1.0//EN
CALSCALE:GREGORIAN
METHOD:PUBLISH
BEGIN:VEVENT
UID:69e63b2dcde76@usbands.org
SUMMARY:USBands Naval Academy Invitational
DTSTART:20211016T092500
DTEND:20211016T090100
DTSTAMP:20260420T144149
LOCATION:Annapolis\, MD
DESCRIPTION:USBands Naval Academy Invitational
END:VEVENT
END:VCALENDAR
