BEGIN:VCALENDAR
VERSION:2.0
PRODID:-//ZContent.net//ZapCalLib 1.0//EN
CALSCALE:GREGORIAN
METHOD:PUBLISH
BEGIN:VEVENT
UID:69e63b9024e34@usbands.org
SUMMARY:USBands Quad States Championship
DTSTART:20211016T085500
DTEND:20211016T090100
DTSTAMP:20260420T144328
LOCATION:Vermillion\, SD
DESCRIPTION:USBands Quad States Championship
END:VEVENT
END:VCALENDAR
