BEGIN:VCALENDAR
VERSION:2.0
PRODID:-//ZContent.net//ZapCalLib 1.0//EN
CALSCALE:GREGORIAN
METHOD:PUBLISH
BEGIN:VEVENT
UID:69e638c081a36@usbands.org
SUMMARY:USBands Maryland-Virginia State Championships
DTSTART:20211023T132500
DTEND:20211023T090100
DTSTAMP:20260420T143128
LOCATION:Towson
DESCRIPTION:USBands Maryland-Virginia State Championships
END:VEVENT
END:VCALENDAR
