BEGIN:VCALENDAR
VERSION:2.0
PRODID:-//ZContent.net//ZapCalLib 1.0//EN
CALSCALE:GREGORIAN
METHOD:PUBLISH
BEGIN:VEVENT
UID:69e638f8112f4@usbands.org
SUMMARY:USBands New York State Championships
DTSTART:20211024T135500
DTEND:20211024T090100
DTSTAMP:20260420T143224
LOCATION:Huntington Station\, NY
DESCRIPTION:USBands New York State Championships
END:VEVENT
END:VCALENDAR
