BEGIN:VCALENDAR
VERSION:2.0
PRODID:-//ZContent.net//ZapCalLib 1.0//EN
CALSCALE:GREGORIAN
METHOD:PUBLISH
BEGIN:VEVENT
UID:69e638c020e88@usbands.org
SUMMARY:USBands New Jersey Open Class State Championships
DTSTART:20211030T135500
DTEND:20211030T090100
DTSTAMP:20260420T143128
LOCATION:Old Bridge\, NJ
DESCRIPTION:USBands New Jersey Open Class State Championships
END:VEVENT
END:VCALENDAR
