BEGIN:VCALENDAR
VERSION:2.0
PRODID:-//ZContent.net//ZapCalLib 1.0//EN
CALSCALE:GREGORIAN
METHOD:PUBLISH
BEGIN:VEVENT
UID:69e638f7e6019@usbands.org
SUMMARY:USBands New Jersey A Class State Championships
DTSTART:20211030T105500
DTEND:20211030T090100
DTSTAMP:20260420T143223
LOCATION:Union\, NJ
DESCRIPTION:USBands New Jersey A Class State Championships
END:VEVENT
END:VCALENDAR
