BEGIN:VCALENDAR
VERSION:2.0
PRODID:-//ZContent.net//ZapCalLib 1.0//EN
CALSCALE:GREGORIAN
METHOD:PUBLISH
BEGIN:VEVENT
UID:69e662c1bd12f@usbands.org
SUMMARY:USBands New England State Championships
DTSTART:20211030T055500
DTEND:20211030T090100
DTSTAMP:20260420T173041
LOCATION:New Britain\, CT
DESCRIPTION:USBands New England State Championships
END:VEVENT
END:VCALENDAR
