BEGIN:VCALENDAR
VERSION:2.0
PRODID:-//ZContent.net//ZapCalLib 1.0//EN
CALSCALE:GREGORIAN
METHOD:PUBLISH
BEGIN:VEVENT
UID:69e638f7d0532@usbands.org
SUMMARY:USBands Pennsylvania State Championships
DTSTART:20211023T132500
DTEND:20211023T193000
DTSTAMP:20260420T143223
LOCATION:West Chester\, PA
DESCRIPTION:USBands Pennsylvania State Championships
END:VEVENT
END:VCALENDAR
