BEGIN:VCALENDAR
VERSION:2.0
PRODID:-//ZContent.net//ZapCalLib 1.0//EN
CALSCALE:GREGORIAN
METHOD:PUBLISH
BEGIN:VEVENT
UID:69e638f86a249@usbands.org
SUMMARY:USBands Mid-Atlantic Regional
DTSTART:20211030T081000
DTEND:20211030T090100
DTSTAMP:20260420T143224
LOCATION:Camp Hill\, PA
DESCRIPTION:USBands Mid-Atlantic Regional
END:VEVENT
END:VCALENDAR
