BEGIN:VCALENDAR
VERSION:2.0
PRODID:-//ZContent.net//ZapCalLib 1.0//EN
CALSCALE:GREGORIAN
METHOD:PUBLISH
BEGIN:VEVENT
UID:69e63b2dcdc57@usbands.org
SUMMARY:USBands Southern States Championships
DTSTART:20211106T085500
DTEND:20211106T200000
DTSTAMP:20260420T144149
LOCATION:Chattanooga\, TN
DESCRIPTION:USBands Southern States Championships
END:VEVENT
END:VCALENDAR
