BEGIN:VCALENDAR
VERSION:2.0
PRODID:-//ZContent.net//ZapCalLib 1.0//EN
CALSCALE:GREGORIAN
METHOD:PUBLISH
BEGIN:VEVENT
UID:69e63b8ebb929@usbands.org
SUMMARY:USBands National Championships A Class
DTSTART:20211106T062500
DTEND:20211106T205900
DTSTAMP:20260420T144326
LOCATION:Allentown\, PA
DESCRIPTION:USBands National Championships A Class
END:VEVENT
END:VCALENDAR
