BEGIN:VCALENDAR
VERSION:2.0
PRODID:-//ZContent.net//ZapCalLib 1.0//EN
CALSCALE:GREGORIAN
METHOD:PUBLISH
BEGIN:VEVENT
UID:69e63b8ec8b60@usbands.org
SUMMARY:USBands Remo Invitational - Austin
DTSTART:20211106T082500
DTEND:20211106T210100
DTSTAMP:20260420T144326
LOCATION:Austin\, TX
DESCRIPTION:USBands Remo Invitational - Austin
END:VEVENT
END:VCALENDAR
