BEGIN:VCALENDAR
VERSION:2.0
PRODID:-//ZContent.net//ZapCalLib 1.0//EN
CALSCALE:GREGORIAN
METHOD:PUBLISH
BEGIN:VEVENT
UID:69e638f8279cb@usbands.org
SUMMARY:USBands Remo Invitational - Houston
DTSTART:20211106T095500
DTEND:20211106T215500
DTSTAMP:20260420T143224
LOCATION:Magnolia\, TX
DESCRIPTION:USBands Remo Invitational - Houston
END:VEVENT
END:VCALENDAR
