BEGIN:VCALENDAR
VERSION:2.0
PRODID:-//ZContent.net//ZapCalLib 1.0//EN
CALSCALE:GREGORIAN
METHOD:PUBLISH
BEGIN:VEVENT
UID:69e638c00d36f@usbands.org
SUMMARY:USBands National Championships Open Class
DTSTART:20211106T055500
DTEND:20211106T210100
DTSTAMP:20260420T143128
LOCATION:East Rutherford\, NJ
DESCRIPTION:USBands National Championships Open Class
END:VEVENT
END:VCALENDAR
