BEGIN:VCALENDAR
VERSION:2.0
PRODID:-//ZContent.net//ZapCalLib 1.0//EN
CALSCALE:GREGORIAN
METHOD:PUBLISH
BEGIN:VEVENT
UID:69e63b9039da4@usbands.org
SUMMARY:Edison HS - Festival of Marching
DTSTART:20210911T113500
DTEND:20210911T210000
DTSTAMP:20260420T144328
LOCATION:Edison\, NJ
DESCRIPTION:Edison HS - Festival of Marching
END:VEVENT
END:VCALENDAR
