BEGIN:VCALENDAR
VERSION:2.0
PRODID:-//ZContent.net//ZapCalLib 1.0//EN
CALSCALE:GREGORIAN
METHOD:PUBLISH
BEGIN:VEVENT
UID:69e63b8eed443@usbands.org
SUMMARY:Trumbull High School - Trumbull Classic
DTSTART:20210925T145500
DTEND:20210925T210000
DTSTAMP:20260420T144326
LOCATION:Trumbull\, CT
DESCRIPTION:Trumbull High School - Trumbull Classic
END:VEVENT
END:VCALENDAR
