BEGIN:VCALENDAR
VERSION:2.0
PRODID:-//ZContent.net//ZapCalLib 1.0//EN
CALSCALE:GREGORIAN
METHOD:PUBLISH
BEGIN:VEVENT
UID:69e63b8eb971a@usbands.org
SUMMARY:Mark T. Sheehan HS - Marching Titans Showcase
DTSTART:20210925T135500
DTEND:20210925T210000
DTSTAMP:20260420T144326
LOCATION:Wallingford\, CT
DESCRIPTION:Mark T. Sheehan HS - Marching Titans Showcase
END:VEVENT
END:VCALENDAR
