BEGIN:VCALENDAR
VERSION:2.0
PRODID:-//ZContent.net//ZapCalLib 1.0//EN
CALSCALE:GREGORIAN
METHOD:PUBLISH
BEGIN:VEVENT
UID:69e63b8ec142a@usbands.org
SUMMARY:Rocky Hill HS Royal Blues Invitational
DTSTART:20210925T085500
DTEND:20210925T210000
DTSTAMP:20260420T144326
LOCATION:Rocky Hill\, CT
DESCRIPTION:Rocky Hill HS Royal Blues Invitational
END:VEVENT
END:VCALENDAR
