BEGIN:VCALENDAR
VERSION:2.0
PRODID:-//ZContent.net//ZapCalLib 1.0//EN
CALSCALE:GREGORIAN
METHOD:PUBLISH
BEGIN:VEVENT
UID:69e63b2dcaf3b@usbands.org
SUMMARY:New Milford High School
DTSTART:20210925T145500
DTEND:20210925T210000
DTSTAMP:20260420T144149
LOCATION:New Milford\, CT
DESCRIPTION:New Milford High School
END:VEVENT
END:VCALENDAR
