BEGIN:VCALENDAR
VERSION:2.0
PRODID:-//ZContent.net//ZapCalLib 1.0//EN
CALSCALE:GREGORIAN
METHOD:PUBLISH
BEGIN:VEVENT
UID:69e63b2dbba69@usbands.org
SUMMARY:Caldwell Senior High School
DTSTART:20210925T102500
DTEND:20210925T210000
DTSTAMP:20260420T144149
LOCATION:Caldwell\, ID
DESCRIPTION:Caldwell Senior High School
END:VEVENT
END:VCALENDAR
