BEGIN:VCALENDAR
VERSION:2.0
PRODID:-//ZContent.net//ZapCalLib 1.0//EN
CALSCALE:GREGORIAN
METHOD:PUBLISH
BEGIN:VEVENT
UID:69e63b67d092a@usbands.org
SUMMARY:USBands Maryland Clinic | Competition
DTSTART:20210925T113000
DTEND:20210925T210000
DTSTAMP:20260420T144247
LOCATION:Williamsport\, MD
DESCRIPTION:USBands Maryland Clinic | Competition
END:VEVENT
END:VCALENDAR
