BEGIN:VCALENDAR
VERSION:2.0
PRODID:-//ZContent.net//ZapCalLib 1.0//EN
CALSCALE:GREGORIAN
METHOD:PUBLISH
BEGIN:VEVENT
UID:69e63b67a4193@usbands.org
SUMMARY:Northern Valley Regional HS at Old Tappan
DTSTART:20210925T125500
DTEND:20210925T210000
DTSTAMP:20260420T144247
LOCATION:Old Tappan\, NJ
DESCRIPTION:Northern Valley Regional HS at Old Tappan
END:VEVENT
END:VCALENDAR
