BEGIN:VCALENDAR
VERSION:2.0
PRODID:-//ZContent.net//ZapCalLib 1.0//EN
CALSCALE:GREGORIAN
METHOD:PUBLISH
BEGIN:VEVENT
UID:69e638f8804df@usbands.org
SUMMARY:Piscataway HS - Superchief Festival 43rd Annual Band Festival
DTSTART:20210925T135500
DTEND:20210925T210000
DTSTAMP:20260420T143224
LOCATION:Piscataway\, NJ
DESCRIPTION:Piscataway HS - Superchief Festival 43rd Annual Band Festival
END:VEVENT
END:VCALENDAR
