BEGIN:VCALENDAR
VERSION:2.0
PRODID:-//ZContent.net//ZapCalLib 1.0//EN
CALSCALE:GREGORIAN
METHOD:PUBLISH
BEGIN:VEVENT
UID:69e63b67b85b6@usbands.org
SUMMARY:46th Annual Hamilton West Cavalcade of Bands - DAY
DTSTART:20211002T085500
DTEND:20211002T210100
DTSTAMP:20260420T144247
LOCATION:Hamilton\, NJ
DESCRIPTION:46th Annual Hamilton West Cavalcade of Bands - DAY
END:VEVENT
END:VCALENDAR
