BEGIN:VCALENDAR
VERSION:2.0
PRODID:-//ZContent.net//ZapCalLib 1.0//EN
CALSCALE:GREGORIAN
METHOD:PUBLISH
BEGIN:VEVENT
UID:69e63b8f23efe@usbands.org
SUMMARY:Brick Township HS - MusicFest 2021
DTSTART:20210925T132000
DTEND:20210925T210000
DTSTAMP:20260420T144327
LOCATION:Brick\, NJ
DESCRIPTION:Brick Township HS - MusicFest 2021
END:VEVENT
END:VCALENDAR
