BEGIN:VCALENDAR
VERSION:2.0
PRODID:-//ZContent.net//ZapCalLib 1.0//EN
CALSCALE:GREGORIAN
METHOD:PUBLISH
BEGIN:VEVENT
UID:69e63b2e19d06@usbands.org
SUMMARY:Quakertown Community High School
DTSTART:20210925T152500
DTEND:20210925T214500
DTSTAMP:20260420T144150
LOCATION:Quakertown\, PA
DESCRIPTION:Quakertown Community High School
END:VEVENT
END:VCALENDAR
