BEGIN:VCALENDAR
VERSION:2.0
PRODID:-//ZContent.net//ZapCalLib 1.0//EN
CALSCALE:GREGORIAN
METHOD:PUBLISH
BEGIN:VEVENT
UID:69e63b67794c3@usbands.org
SUMMARY:Naugatuck HS - Thunder in the Valley
DTSTART:20211002T155500
DTEND:20211002T210000
DTSTAMP:20260420T144247
LOCATION:Naugatuck\, CT
DESCRIPTION:Naugatuck HS - Thunder in the Valley
END:VEVENT
END:VCALENDAR
