BEGIN:VCALENDAR
VERSION:2.0
PRODID:-//ZContent.net//ZapCalLib 1.0//EN
CALSCALE:GREGORIAN
METHOD:PUBLISH
BEGIN:VEVENT
UID:69e63b907cd45@usbands.org
SUMMARY:Norwich Free Academy - NFA Classic
DTSTART:20211002T135500
DTEND:20211002T210000
DTSTAMP:20260420T144328
LOCATION:Norwich\, CT
DESCRIPTION:Norwich Free Academy - NFA Classic
END:VEVENT
END:VCALENDAR
