BEGIN:VCALENDAR
VERSION:2.0
PRODID:-//ZContent.net//ZapCalLib 1.0//EN
CALSCALE:GREGORIAN
METHOD:PUBLISH
BEGIN:VEVENT
UID:69e63b66d64d5@usbands.org
SUMMARY:Kuna Marching Invitational - Kuna High School
DTSTART:20211002T095500
DTEND:20211002T210000
DTSTAMP:20260420T144246
LOCATION:Kuna\, ID
DESCRIPTION:Kuna Marching Invitational - Kuna High School
END:VEVENT
END:VCALENDAR
