BEGIN:VCALENDAR
VERSION:2.0
PRODID:-//ZContent.net//ZapCalLib 1.0//EN
CALSCALE:GREGORIAN
METHOD:PUBLISH
BEGIN:VEVENT
UID:69e63b90a8c25@usbands.org
SUMMARY:Dartmouth High School
DTSTART:20211002T145000
DTEND:20211002T210000
DTSTAMP:20260420T144328
LOCATION:Dartmouth\, MA
DESCRIPTION:Dartmouth High School
END:VEVENT
END:VCALENDAR
