BEGIN:VCALENDAR
VERSION:2.0
PRODID:-//ZContent.net//ZapCalLib 1.0//EN
CALSCALE:GREGORIAN
METHOD:PUBLISH
BEGIN:VEVENT
UID:69e638c0555bb@usbands.org
SUMMARY:Leonardtown HS - 2021 Battle At Breton
DTSTART:20211002T115000
DTEND:20211002T210000
DTSTAMP:20260420T143128
LOCATION:Leonardtown\, MD
DESCRIPTION:Leonardtown HS - 2021 Battle At Breton
END:VEVENT
END:VCALENDAR
